BEGIN:VCALENDAR
VERSION:2.0
PRODID:-//Effe Emme s.a.s.
CALSCALE:GREGORIAN
METHOD:PUBLISH
X-WR-CALNAME:Effe Emme s.a.s.
X-ORIGINAL-URL:https://www.effeemmesas.it/en/eventi/update-in-rinologia-2025/
X-WR-CALDESC:Update in rinologia: patologie nasali e strategie terapeutiche
BEGIN:VEVENT
DTSTART:20251122T000000
DTEND:20251122T000000
SUMMARY:Update in rinologia: patologie nasali e strategie terapeutiche
DESCRIPTION:.
LOCATION: Via Albere, 30 - Monselice (PD)
END:VEVENT
END:VCALENDAR