BEGIN:VCALENDAR
VERSION:2.0
PRODID:-//Effe Emme s.a.s.
CALSCALE:GREGORIAN
METHOD:PUBLISH
X-WR-CALNAME:Effe Emme s.a.s.
X-ORIGINAL-URL:https://www.effeemmesas.it/en/eventi/cardiochef-nutri-il-tuo-cuore/
X-WR-CALDESC:CARDIOCHEF NUTRI IL TUO CUORE
BEGIN:VEVENT
DTSTART:20180608T000000
DTEND:
SUMMARY:CARDIOCHEF NUTRI IL TUO CUORE
DESCRIPTION:Registrati compilando il form sottostante. 
LOCATION:Hotel Catullo – San Martino Buon Albergo (VR)
END:VEVENT
END:VCALENDAR