BEGIN:VCALENDAR
VERSION:2.0
PRODID:-//Effe Emme s.a.s.
CALSCALE:GREGORIAN
METHOD:PUBLISH
X-WR-CALNAME:Effe Emme s.a.s.
X-ORIGINAL-URL:https://www.effeemmesas.it/en/eventi/update-in-tema-di-asma-e-bpcoasma-e-bpco/
X-WR-CALDESC:UPDATE in tema di ASMA E BPCOASMA E BPCO
BEGIN:VEVENT
DTSTART:20180607T000000
DTEND:
SUMMARY:UPDATE in tema di ASMA E BPCOASMA E BPCO
DESCRIPTION:Registrati compilando il form sottostante. 
LOCATION:Hotel Al Ponte – Viale Trieste, 124 - Gradisca d’Isonzo (GO)
END:VEVENT
END:VCALENDAR