BEGIN:VCALENDAR
VERSION:2.0
PRODID:-//Effe Emme s.a.s.
CALSCALE:GREGORIAN
METHOD:PUBLISH
X-WR-CALNAME:Effe Emme s.a.s.
X-ORIGINAL-URL:https://www.effeemmesas.it/en/eventi/diabetologi-e-cardiologi-a-confronto-tra-evidenze-scientifiche-e-pratica-clinica/
X-WR-CALDESC:Diabetologi e cardiologi a confronto tra evidenze scientifiche e pratica clinica
BEGIN:VEVENT
DTSTART:20180609T000000
DTEND:
SUMMARY:Diabetologi e cardiologi a confronto tra evidenze scientifiche e pratica clinica
DESCRIPTION:Registrati compilando il form sottostante. 
LOCATION:Viest Hotel - via U. Scarpelli, 41 36100 Vicenza
END:VEVENT
END:VCALENDAR