BEGIN:VCALENDAR
VERSION:2.0
PRODID:-//Effe Emme s.a.s.
CALSCALE:GREGORIAN
METHOD:PUBLISH
X-WR-CALNAME:Effe Emme s.a.s.
X-ORIGINAL-URL:https://www.effeemmesas.it/en/eventi/3-corso-neuropatia-diabetica/
X-WR-CALDESC:3° Corso NEUROPATIA DIABETICA
BEGIN:VEVENT
DTSTART:20190614T130000
DTEND:20190615T170000
SUMMARY:3° Corso NEUROPATIA DIABETICA
DESCRIPTION:Registrati compilando il form sottostante. 
LOCATION:Hotel Galileo Via Venezia, 30 - Padova
END:VEVENT
END:VCALENDAR