BEGIN:VCALENDAR
VERSION:2.0
PRODID:-//Effe Emme s.a.s.
CALSCALE:GREGORIAN
METHOD:PUBLISH
X-WR-CALNAME:Effe Emme s.a.s.
X-ORIGINAL-URL:https://www.effeemmesas.it/en/eventi/z-expansion-un-nuovo-punto-di-vista-sul-trattamento-del-paziente-dislipidemico/
X-WR-CALDESC:Z/EXPANSION: un nuovo punto di vista sul trattamento del paziente dislipidemico
BEGIN:VEVENT
DTSTART:20180620T000000
DTEND:
SUMMARY:Z/EXPANSION: un nuovo punto di vista sul trattamento del paziente dislipidemico
DESCRIPTION:Registrati compilando il form sottostante. 
LOCATION:Hotel Fior - Via dei Carpani, 18 31033 Castelfranco Veneto (TV)
END:VEVENT
END:VCALENDAR