BEGIN:VCALENDAR
VERSION:2.0
PRODID:-//Effe Emme s.a.s.
CALSCALE:GREGORIAN
METHOD:PUBLISH
X-WR-CALNAME:Effe Emme s.a.s.
X-ORIGINAL-URL:https://www.effeemmesas.it/eventi/3-gastro-up-to-date-2023/
X-WR-CALDESC:3° GASTRO UP TO-DATE
BEGIN:VEVENT
DTSTART:20230606T083000
DTEND:20230606T180000
SUMMARY:3° GASTRO UP TO-DATE
DESCRIPTION:Per informazioni scrivere a iscrizioni.effeemmesas@gmail.com
LOCATION:Polo Formativo Universitario Contrà San Bortolo, 85 - Vicenza
END:VEVENT
END:VCALENDAR
