BEGIN:VCALENDAR
VERSION:2.0
PRODID:-//Effe Emme s.a.s.
CALSCALE:GREGORIAN
METHOD:PUBLISH
X-WR-CALNAME:Effe Emme s.a.s.
X-ORIGINAL-URL:https://www.effeemmesas.it/eventi/xxxvi-congresso-annuale-sot/
X-WR-CALDESC:XXXVI° Congresso Annuale SOT
BEGIN:VEVENT
DTSTART:20220513T000000
DTEND:
SUMMARY:XXXVI° Congresso Annuale SOT
DESCRIPTION:Registrati compilando la scheda di iscrizione da inviare a: segreteria@sotweb.org
LOCATION:Centro Congressi Double Tree by Hilton Hotel Via Bonfadini, 1- 31021 Mogliano Veneto (TV)
END:VEVENT
END:VCALENDAR
